BEGIN:VCALENDAR
VERSION:2.0
PRODID:-//Sabre//Sabre VObject 4.5.8//EN
PRODID:-//mumok//mbit-web//EN
CALSCALE:GREGORIAN
CALSCALE:GREGORIAN
METHOD:PUBLISH
BEGIN:VEVENT
UID:sabre-vobject-a55a2a80-8a3a-4165-960c-ad0f7b3eb14f
UID:199601a1-3cac-11f1-8aa8-005056a824b6
DTSTAMP:20260424T164956Z
DTSTAMP:20260424T164956Z
SUMMARY:Final Guided Tour | The World of Tomorrow
DTSTART:20260516T120000Z
DTEND:20260516T130000Z
LOCATION:museum moderner kunst stiftung ludwig wien
GEO:48.203754;16.357876
DESCRIPTION:
BEGIN:VALARM
ACTION:DISPLAY
TRIGGER:-PT60M
END:VALARM
END:VEVENT
END:VCALENDAR
