BEGIN:VCALENDAR
VERSION:2.0
PRODID:-//Sabre//Sabre VObject 4.5.8//EN
PRODID:-//mumok//mbit-web//EN
CALSCALE:GREGORIAN
CALSCALE:GREGORIAN
METHOD:PUBLISH
BEGIN:VEVENT
UID:sabre-vobject-78ce237e-316f-405c-a281-57090d8d203a
UID:0c31da3b-f6be-11f0-8b5f-005056a824b6
DTSTAMP:20260421T092158Z
DTSTAMP:20260421T092158Z
SUMMARY:Workshop | Sunday Studio for Families: March 8
DTSTART:20260308T091500Z
DTEND:20260308T104500Z
LOCATION:museum moderner kunst stiftung ludwig wien
GEO:48.203754;16.357876
DESCRIPTION:
BEGIN:VALARM
ACTION:DISPLAY
TRIGGER:-PT60M
END:VALARM
END:VEVENT
END:VCALENDAR
