BEGIN:VCALENDAR
VERSION:2.0
PRODID:-//Sabre//Sabre VObject 4.5.8//EN
PRODID:-//mumok//mbit-web//EN
CALSCALE:GREGORIAN
CALSCALE:GREGORIAN
METHOD:PUBLISH
BEGIN:VEVENT
UID:sabre-vobject-d97c0ccb-c662-4aed-987f-b4513d2ef26f
UID:7458ee50-f6be-11f0-8b5f-005056a824b6
DTSTAMP:20260421T091834Z
DTSTAMP:20260421T091834Z
SUMMARY:Workshop | Sunday Studio for Families: March 15
DTSTART:20260315T091500Z
DTEND:20260315T104500Z
LOCATION:museum moderner kunst stiftung ludwig wien
GEO:48.203754;16.357876
DESCRIPTION:
BEGIN:VALARM
ACTION:DISPLAY
TRIGGER:-PT60M
END:VALARM
END:VEVENT
END:VCALENDAR
