BEGIN:VCALENDAR
VERSION:2.0
PRODID:-//Sabre//Sabre VObject 4.5.8//EN
PRODID:-//mumok//mbit-web//EN
CALSCALE:GREGORIAN
CALSCALE:GREGORIAN
METHOD:PUBLISH
BEGIN:VEVENT
UID:sabre-vobject-5598d34d-0c64-4dad-a5fc-bf3fd595f6bc
UID:a8ca0cc3-3cc3-11f1-8aa8-005056a824b6
DTSTAMP:20260424T163633Z
DTSTAMP:20260424T163633Z
SUMMARY:Tobias Pils. Shh | Exhibition Tour with Tobias Pils and Manuela Amm
 er
DTSTART:20260505T153000Z
DTEND:20260505T170000Z
LOCATION:museum moderner kunst stiftung ludwig wien
GEO:48.203754;16.357876
DESCRIPTION:
BEGIN:VALARM
ACTION:DISPLAY
TRIGGER:-PT60M
END:VALARM
END:VEVENT
END:VCALENDAR
