BEGIN:VCALENDAR
VERSION:2.0
PRODID:-//Sabre//Sabre VObject 4.5.8//EN
PRODID:-//mumok//mbit-web//EN
CALSCALE:GREGORIAN
CALSCALE:GREGORIAN
METHOD:PUBLISH
BEGIN:VEVENT
UID:sabre-vobject-3af195f6-0e2f-4b26-8f1a-e1cd7ef38f0f
UID:3f8e2c4e-3cac-11f1-8aa8-005056a824b6
DTSTAMP:20260424T163008Z
DTSTAMP:20260424T163008Z
SUMMARY:Final Guided Tour | Tobias Pils
DTSTART:20260517T120000Z
DTEND:20260517T130000Z
LOCATION:museum moderner kunst stiftung ludwig wien
GEO:48.203754;16.357876
DESCRIPTION:
BEGIN:VALARM
ACTION:DISPLAY
TRIGGER:-PT60M
END:VALARM
END:VEVENT
END:VCALENDAR
