BEGIN:VCALENDAR
VERSION:2.0
PRODID:-//Sabre//Sabre VObject 4.5.8//EN
PRODID:-//mumok//mbit-web//EN
CALSCALE:GREGORIAN
CALSCALE:GREGORIAN
METHOD:PUBLISH
BEGIN:VEVENT
UID:sabre-vobject-a466498d-59ac-4556-acda-370c9a7c1f11
UID:1324c081-3fc7-11f1-8aa8-005056a824b6
DTSTAMP:20260424T164336Z
DTSTAMP:20260424T164336Z
SUMMARY:mumok cinema | Fields
DTSTART:20260513T170000Z
DTEND:20260513T200000Z
LOCATION:museum moderner kunst stiftung ludwig wien
GEO:48.203754;16.357876
DESCRIPTION:
BEGIN:VALARM
ACTION:DISPLAY
TRIGGER:-PT60M
END:VALARM
END:VEVENT
END:VCALENDAR
