BEGIN:VCALENDAR
VERSION:2.0
PRODID:-//Sabre//Sabre VObject 4.5.8//EN
PRODID:-//mumok//mbit-web//EN
CALSCALE:GREGORIAN
CALSCALE:GREGORIAN
METHOD:PUBLISH
BEGIN:VEVENT
UID:sabre-vobject-275d7d30-986e-44a8-8e68-56163258f6f3
UID:d922e5fa-bfd2-11f0-8ad5-005056a824b6
DTSTAMP:20260421T092016Z
DTSTAMP:20260421T092016Z
SUMMARY:Feminist Perspectives | Program 6 | 2 to 5 pm
DTSTART:20251207T130000Z
DTEND:20251207T160000Z
LOCATION:museum moderner kunst stiftung ludwig wien
GEO:48.203754;16.357876
DESCRIPTION:
BEGIN:VALARM
ACTION:DISPLAY
TRIGGER:-PT60M
END:VALARM
END:VEVENT
END:VCALENDAR
