BEGIN:VCALENDAR
VERSION:2.0
PRODID:-//Sabre//Sabre VObject 4.5.8//EN
PRODID:-//mumok//mbit-web//EN
CALSCALE:GREGORIAN
CALSCALE:GREGORIAN
METHOD:PUBLISH
BEGIN:VEVENT
UID:sabre-vobject-90833c73-5bef-4e0c-b0c7-ddb88efde553
UID:b4ce18c1-f6ba-11f0-8b5f-005056a824b6
DTSTAMP:20260421T091449Z
DTSTAMP:20260421T091449Z
SUMMARY:Workshop | Samstagsatelier für Familien: 14. März
DTSTART:20260314T091500Z
DTEND:20260314T104500Z
LOCATION:museum moderner kunst stiftung ludwig wien
GEO:48.203754;16.357876
DESCRIPTION:
BEGIN:VALARM
ACTION:DISPLAY
TRIGGER:-PT60M
END:VALARM
END:VEVENT
END:VCALENDAR
