BEGIN:VCALENDAR
VERSION:2.0
PRODID:-//Sabre//Sabre VObject 4.5.8//EN
PRODID:-//mumok//mbit-web//EN
CALSCALE:GREGORIAN
CALSCALE:GREGORIAN
METHOD:PUBLISH
BEGIN:VEVENT
UID:sabre-vobject-2f47159f-23b5-43ef-bfc5-6dcda9a03e7e
UID:e17dd86d-75c6-11ef-8901-d2fd6382538d
DTSTAMP:20260421T162843Z
DTSTAMP:20260421T162843Z
SUMMARY:Between Strings | Workshop für Familien
DTSTART:20241024T140000Z
DTEND:20241024T153000Z
LOCATION:museum moderner kunst stiftung ludwig wien
GEO:48.203754;16.357876
DESCRIPTION:
BEGIN:VALARM
ACTION:DISPLAY
TRIGGER:-PT60M
END:VALARM
END:VEVENT
END:VCALENDAR
