BEGIN:VCALENDAR
VERSION:2.0
PRODID:-//Sabre//Sabre VObject 4.5.8//EN
PRODID:-//mumok//mbit-web//EN
CALSCALE:GREGORIAN
CALSCALE:GREGORIAN
METHOD:PUBLISH
BEGIN:VEVENT
UID:sabre-vobject-caf4d79b-04ee-46c3-9580-cfc694d65501
UID:95d90969-9790-11f0-a260-005056a824b6
DTSTAMP:20260421T114711Z
DTSTAMP:20260421T114711Z
SUMMARY:Workshop für Familien | Bilderbuchkino am 7. November
DTSTART:20251107T130000Z
DTEND:20251107T140000Z
LOCATION:museum moderner kunst stiftung ludwig wien
GEO:48.203754;16.357876
DESCRIPTION:
BEGIN:VALARM
ACTION:DISPLAY
TRIGGER:-PT60M
END:VALARM
END:VEVENT
END:VCALENDAR
