BEGIN:VCALENDAR
VERSION:2.0
PRODID:-//Sabre//Sabre VObject 4.5.8//EN
PRODID:-//mumok//mbit-web//EN
CALSCALE:GREGORIAN
CALSCALE:GREGORIAN
METHOD:PUBLISH
BEGIN:VEVENT
UID:sabre-vobject-610184cc-9e01-4fbb-846b-1fa11e978b94
UID:d1cb280d-bfd2-11f0-8ad5-005056a824b6
DTSTAMP:20260421T093707Z
DTSTAMP:20260421T093707Z
SUMMARY:Feminist Perspectives | Programm 1 | 11–13 Uhr
DTSTART:20251206T100000Z
DTEND:20251206T120000Z
LOCATION:museum moderner kunst stiftung ludwig wien
GEO:48.203754;16.357876
DESCRIPTION:
BEGIN:VALARM
ACTION:DISPLAY
TRIGGER:-PT60M
END:VALARM
END:VEVENT
END:VCALENDAR
