BEGIN:VCALENDAR
VERSION:2.0
PRODID:-//Sabre//Sabre VObject 4.5.8//EN
PRODID:-//mumok//mbit-web//EN
CALSCALE:GREGORIAN
CALSCALE:GREGORIAN
METHOD:PUBLISH
BEGIN:VEVENT
UID:sabre-vobject-336d414a-e8d0-4646-8684-1f601d15bd19
UID:4751969e-60a7-11f0-8ac0-005056a824b6
DTSTAMP:20260419T124501Z
DTSTAMP:20260419T124501Z
SUMMARY:Workshop | Sonntagsatelier für Familien: 7. September
DTSTART:20250907T103000Z
DTEND:20250907T120000Z
LOCATION:museum moderner kunst stiftung ludwig wien
GEO:48.203754;16.357876
DESCRIPTION:
BEGIN:VALARM
ACTION:DISPLAY
TRIGGER:-PT60M
END:VALARM
END:VEVENT
END:VCALENDAR
