BEGIN:VCALENDAR
VERSION:2.0
PRODID:-//Sabre//Sabre VObject 4.5.8//EN
PRODID:-//mumok//mbit-web//EN
CALSCALE:GREGORIAN
CALSCALE:GREGORIAN
METHOD:PUBLISH
BEGIN:VEVENT
UID:sabre-vobject-191d922c-a790-48d0-8796-8874717446bc
UID:1324c081-3fc7-11f1-8aa8-005056a824b6
DTSTAMP:20260424T151501Z
DTSTAMP:20260424T151501Z
SUMMARY:mumok kino | Fields
DTSTART:20260513T170000Z
DTEND:20260513T200000Z
LOCATION:museum moderner kunst stiftung ludwig wien
GEO:48.203754;16.357876
DESCRIPTION:
BEGIN:VALARM
ACTION:DISPLAY
TRIGGER:-PT60M
END:VALARM
END:VEVENT
END:VCALENDAR
