BEGIN:VCALENDAR
VERSION:2.0
PRODID:-//Sabre//Sabre VObject 4.5.8//EN
PRODID:-//mumok//mbit-web//EN
CALSCALE:GREGORIAN
CALSCALE:GREGORIAN
METHOD:PUBLISH
BEGIN:VEVENT
UID:sabre-vobject-69df005c-0387-4f0c-9085-fd54f273bb9e
UID:45d6ec7e-75be-11ef-8901-d2fd6382538d
DTSTAMP:20260421T145658Z
DTSTAMP:20260421T145658Z
SUMMARY:Between Strings | Workshop für Familien
DTSTART:20241013T080000Z
DTEND:20241013T093000Z
LOCATION:museum moderner kunst stiftung ludwig wien
GEO:48.203754;16.357876
DESCRIPTION:
BEGIN:VALARM
ACTION:DISPLAY
TRIGGER:-PT60M
END:VALARM
END:VEVENT
END:VCALENDAR
