BEGIN:VCALENDAR
VERSION:2.0
PRODID:-//Sabre//Sabre VObject 4.5.8//EN
PRODID:-//mumok//mbit-web//EN
CALSCALE:GREGORIAN
CALSCALE:GREGORIAN
METHOD:PUBLISH
BEGIN:VEVENT
UID:sabre-vobject-859ab53b-dd0c-4c09-97c8-381e26059da3
UID:f45f2ba4-19e9-11ef-8901-d2fd6382538d
DTSTAMP:20260421T113257Z
DTSTAMP:20260421T113257Z
SUMMARY:Kuratorenführung | Avant-Garde and Liberation
DTSTART:20240620T161500Z
DTEND:20240620T171500Z
LOCATION:museum moderner kunst stiftung ludwig wien
GEO:48.203754;16.357876
DESCRIPTION:
BEGIN:VALARM
ACTION:DISPLAY
TRIGGER:-PT60M
END:VALARM
END:VEVENT
END:VCALENDAR
