BEGIN:VCALENDAR
VERSION:2.0
PRODID:-//Sabre//Sabre VObject 4.5.8//EN
PRODID:-//mumok//mbit-web//EN
CALSCALE:GREGORIAN
CALSCALE:GREGORIAN
METHOD:PUBLISH
BEGIN:VEVENT
UID:sabre-vobject-1893f6f9-8a0e-4c9f-a61e-08451aab8b4c
UID:08fb1862-3cac-11f1-8aa8-005056a824b6
DTSTAMP:20260424T151010Z
DTSTAMP:20260424T151010Z
SUMMARY:Abschlussrundgang | Nie endgültig!
DTSTART:20260503T120000Z
DTEND:20260503T130000Z
LOCATION:museum moderner kunst stiftung ludwig wien
GEO:48.203754;16.357876
DESCRIPTION:
BEGIN:VALARM
ACTION:DISPLAY
TRIGGER:-PT60M
END:VALARM
END:VEVENT
END:VCALENDAR
