BEGIN:VCALENDAR
VERSION:2.0
PRODID:-//Sabre//Sabre VObject 4.5.8//EN
PRODID:-//mumok//mbit-web//EN
CALSCALE:GREGORIAN
CALSCALE:GREGORIAN
METHOD:PUBLISH
BEGIN:VEVENT
UID:sabre-vobject-9bd3f511-aa9f-4564-9af5-197080c84f58
UID:aa409efb-3729-11f0-8ac0-005056a824b6
DTSTAMP:20260424T234159Z
DTSTAMP:20260424T234159Z
SUMMARY:Talk | Jann Haworth & Jo Applin
DTSTART:20250904T160000Z
DTEND:20250904T173000Z
LOCATION:museum moderner kunst stiftung ludwig wien
GEO:48.203754;16.357876
DESCRIPTION:
BEGIN:VALARM
ACTION:DISPLAY
TRIGGER:-PT60M
END:VALARM
END:VEVENT
END:VCALENDAR
