BEGIN:VCALENDAR
VERSION:2.0
PRODID:-//Sabre//Sabre VObject 4.5.8//EN
PRODID:-//mumok//mbit-web//EN
CALSCALE:GREGORIAN
CALSCALE:GREGORIAN
METHOD:PUBLISH
BEGIN:VEVENT
UID:sabre-vobject-fd220cb7-63b2-4424-931b-b0e8905e395a
UID:a8ca0cc3-3cc3-11f1-8aa8-005056a824b6
DTSTAMP:20260424T150848Z
DTSTAMP:20260424T150848Z
SUMMARY:Tobias Pils. Shh | Rundgang mit Tobias Pils und Manuela Ammer
DTSTART:20260505T153000Z
DTEND:20260505T170000Z
LOCATION:museum moderner kunst stiftung ludwig wien
GEO:48.203754;16.357876
DESCRIPTION:
BEGIN:VALARM
ACTION:DISPLAY
TRIGGER:-PT60M
END:VALARM
END:VEVENT
END:VCALENDAR
